BEGIN:VCALENDAR
VERSION:2.0
PRODID:-//Taikoyaki - ECPv6.15.20//NONSGML v1.0//EN
CALSCALE:GREGORIAN
METHOD:PUBLISH
X-WR-CALNAME:Taikoyaki
X-ORIGINAL-URL:https://taikoyaki.fr
X-WR-CALDESC:Évènements pour Taikoyaki
REFRESH-INTERVAL;VALUE=DURATION:PT1H
X-Robots-Tag:noindex
X-PUBLISHED-TTL:PT1H
BEGIN:VTIMEZONE
TZID:Europe/Paris
BEGIN:DAYLIGHT
TZOFFSETFROM:+0100
TZOFFSETTO:+0200
TZNAME:CEST
DTSTART:20190331T010000
END:DAYLIGHT
BEGIN:STANDARD
TZOFFSETFROM:+0200
TZOFFSETTO:+0100
TZNAME:CET
DTSTART:20191027T010000
END:STANDARD
BEGIN:DAYLIGHT
TZOFFSETFROM:+0100
TZOFFSETTO:+0200
TZNAME:CEST
DTSTART:20200329T010000
END:DAYLIGHT
BEGIN:STANDARD
TZOFFSETFROM:+0200
TZOFFSETTO:+0100
TZNAME:CET
DTSTART:20201025T010000
END:STANDARD
BEGIN:DAYLIGHT
TZOFFSETFROM:+0100
TZOFFSETTO:+0200
TZNAME:CEST
DTSTART:20210328T010000
END:DAYLIGHT
BEGIN:STANDARD
TZOFFSETFROM:+0200
TZOFFSETTO:+0100
TZNAME:CET
DTSTART:20211031T010000
END:STANDARD
END:VTIMEZONE
BEGIN:VEVENT
DTSTART;TZID=Europe/Paris:20201003T140000
DTEND;TZID=Europe/Paris:20201003T170000
DTSTAMP:20260426T063547
CREATED:20200214T102528Z
LAST-MODIFIED:20200626T094205Z
UID:2719-1601733600-1601744400@taikoyaki.fr
SUMMARY:Mang@Juvisy - Juvisy (91) - 3 octobre 2020
DESCRIPTION:Taikoyaki a le plaisir de se produire lors de l’événement Mang@Juvisy pour la 2ème année consécutive. \nNous ferons 2 prestations de 15 minutes dans l’après midi. \nN’hésitez pas à venir nous encourager ! \n 
URL:https://taikoyaki.fr/event/mangjuvisy-juvisy-91-2020/
LOCATION:Mang@Juvisy\, 9\, rue du docteur Vinot\, Juvisy-sur-Orge\, 91260\, France
CATEGORIES:Prestation,Taikoyaki
END:VEVENT
END:VCALENDAR