BEGIN:VCALENDAR
VERSION:2.0
PRODID:-//Taikoyaki - ECPv6.15.20//NONSGML v1.0//EN
CALSCALE:GREGORIAN
METHOD:PUBLISH
X-WR-CALNAME:Taikoyaki
X-ORIGINAL-URL:https://taikoyaki.fr
X-WR-CALDESC:Évènements pour Taikoyaki
REFRESH-INTERVAL;VALUE=DURATION:PT1H
X-Robots-Tag:noindex
X-PUBLISHED-TTL:PT1H
BEGIN:VTIMEZONE
TZID:Europe/Paris
BEGIN:DAYLIGHT
TZOFFSETFROM:+0100
TZOFFSETTO:+0200
TZNAME:CEST
DTSTART:20190331T010000
END:DAYLIGHT
BEGIN:STANDARD
TZOFFSETFROM:+0200
TZOFFSETTO:+0100
TZNAME:CET
DTSTART:20191027T010000
END:STANDARD
BEGIN:DAYLIGHT
TZOFFSETFROM:+0100
TZOFFSETTO:+0200
TZNAME:CEST
DTSTART:20200329T010000
END:DAYLIGHT
BEGIN:STANDARD
TZOFFSETFROM:+0200
TZOFFSETTO:+0100
TZNAME:CET
DTSTART:20201025T010000
END:STANDARD
BEGIN:DAYLIGHT
TZOFFSETFROM:+0100
TZOFFSETTO:+0200
TZNAME:CEST
DTSTART:20210328T010000
END:DAYLIGHT
BEGIN:STANDARD
TZOFFSETFROM:+0200
TZOFFSETTO:+0100
TZNAME:CET
DTSTART:20211031T010000
END:STANDARD
END:VTIMEZONE
BEGIN:VEVENT
DTSTART;TZID=Europe/Paris:20200901T185000
DTEND;TZID=Europe/Paris:20200901T215000
DTSTAMP:20260426T050731
CREATED:20200821T084138Z
LAST-MODIFIED:20200821T084138Z
UID:2907-1598986200-1598997000@taikoyaki.fr
SUMMARY:Répétition Ogi\, Satsuki\, Buchi awase\, Natsu Matsuri
DESCRIPTION:Description\nRépétition de 3h avec thème\, tous niveaux\nAnimateur: Loïc \nProgramme\nEchauffement (5/10 min)\nTechnique: Exercices techniques\nMorceaux : Ogi\, Satsuki\, Buchi awase\, Natsu Matsuri\nRangement : (5 min avant la fin) \nRéservation\nLes membres de Taikoyaki doivent passer par le calendrier de réservation disponible dans leur espace membres.\nSi vous n’êtes pas membre\, merci d’utiliser le formulaire de contact. \nTarif : 7€/h soit 21€\nAprès validation de la réservation\, le paiement peut s’effectuer\nen avance par virement bancaire en précisant bien la date de répétition dans le message\nle jour même en liquide\, par chèque ou virement \nPlus d’informations sur les moyens de paiement. \nAnnulation\nLes annulations ne sont autorisées que si un remplaçant est trouvé. En ces temps de covid\, le studio 7ème ciel a instauré de nouvelles mesures\, donc le prépaiement des séances sans possibilité d’annulation.
URL:https://taikoyaki.fr/event/repetition-ogi-satsuki-buchi-awase-natsu-matsuri/
LOCATION:Studio 7e Ciel – Issy Les Moulineaux\, 9 Rue d'Estienne d'Orves\, Issy-les-Moulineaux\, 92130\, France
CATEGORIES:Répétitions,Taikoyaki
ORGANIZER;CN="Taikoyaki":MAILTO:info@taikoyaki.fr
END:VEVENT
BEGIN:VEVENT
DTSTART;TZID=Europe/Paris:20200904T185000
DTEND;TZID=Europe/Paris:20200904T215000
DTSTAMP:20260426T050731
CREATED:20200821T084441Z
LAST-MODIFIED:20200821T084644Z
UID:2913-1599245400-1599256200@taikoyaki.fr
SUMMARY:Répétition World Wide Matsuri
DESCRIPTION:Description\nRépétition de 3h avec thème\, connaissance basique du morceau requise\nAnimateur: Rosa\, Kenny\, Agnès \nProgramme\nEchauffement (5/10 min)\nTechnique: Exercices techniques\nMorceaux : Worldwide Matsuri\nRangement : (5 min avant la fin) \nRéservation\nLes membres de Taikoyaki doivent passer par le calendrier de réservation disponible dans leur espace membres.\nSi vous n’êtes pas membre\, merci d’utiliser le formulaire de contact. \nTarif : 7€/h soit 21€\nAprès validation de la réservation\, le paiement peut s’effectuer\nen avance par virement bancaire en précisant bien la date de répétition dans le message\nle jour même en liquide\, par chèque ou virement \nPlus d’informations sur les moyens de paiement. \nAnnulation\nLes annulations ne sont autorisées que si un remplaçant est trouvé. En ces temps de covid\, le studio 7ème ciel a instauré de nouvelles mesures\, donc le prépaiement des séances sans possibilité d’annulation.
URL:https://taikoyaki.fr/event/repetition-world-wide-matsuri/
LOCATION:Studio 7e Ciel – Issy Les Moulineaux\, 9 Rue d'Estienne d'Orves\, Issy-les-Moulineaux\, 92130\, France
CATEGORIES:Répétitions,Taikoyaki
ORGANIZER;CN="Taikoyaki":MAILTO:info@taikoyaki.fr
END:VEVENT
BEGIN:VEVENT
DTSTART;TZID=Europe/Paris:20200908T185000
DTEND;TZID=Europe/Paris:20200908T215000
DTSTAMP:20260426T050731
CREATED:20200821T084228Z
LAST-MODIFIED:20200821T084228Z
UID:2909-1599591000-1599601800@taikoyaki.fr
SUMMARY:Répétition Ogi\, Satsuki\, Buchi awase\, Natsu Matsuri
DESCRIPTION:Description\nRépétition de 3h avec thème\, tous niveaux\nAnimateur: Loïc \nProgramme\nEchauffement (5/10 min)\nTechnique: Exercices techniques\nMorceaux : Ogi\, Satsuki\, Buchi awase\, Natsu Matsuri\nRangement : (5 min avant la fin) \nRéservation\nLes membres de Taikoyaki doivent passer par le calendrier de réservation disponible dans leur espace membres.\nSi vous n’êtes pas membre\, merci d’utiliser le formulaire de contact. \nTarif : 7€/h soit 21€\nAprès validation de la réservation\, le paiement peut s’effectuer\nen avance par virement bancaire en précisant bien la date de répétition dans le message\nle jour même en liquide\, par chèque ou virement \nPlus d’informations sur les moyens de paiement. \nAnnulation\nLes annulations ne sont autorisées que si un remplaçant est trouvé. En ces temps de covid\, le studio 7ème ciel a instauré de nouvelles mesures\, donc le prépaiement des séances sans possibilité d’annulation.
URL:https://taikoyaki.fr/event/repetition-ogi-satsuki-buchi-awase-natsu-matsuri-2/
LOCATION:Studio 7e Ciel – Issy Les Moulineaux\, 9 Rue d'Estienne d'Orves\, Issy-les-Moulineaux\, 92130\, France
CATEGORIES:Répétitions,Taikoyaki
ORGANIZER;CN="Taikoyaki":MAILTO:info@taikoyaki.fr
END:VEVENT
BEGIN:VEVENT
DTSTART;TZID=Europe/Paris:20200911T185000
DTEND;TZID=Europe/Paris:20200911T215000
DTSTAMP:20260426T050731
CREATED:20200821T084555Z
LAST-MODIFIED:20200821T084611Z
UID:2915-1599850200-1599861000@taikoyaki.fr
SUMMARY:Répétition Shigure
DESCRIPTION:Description\nRépétition de 3h avec thème\, connaissance basique du morceau requise\nAnimateur: Loïc \nProgramme\nEchauffement (5/10 min)\nTechnique: Exercices techniques\nMorceaux : Shigure\nRangement : (5 min avant la fin) \nRéservation\nLes membres de Taikoyaki doivent passer par le calendrier de réservation disponible dans leur espace membres.\nSi vous n’êtes pas membre\, merci d’utiliser le formulaire de contact. \nTarif : 7€/h soit 21€\nAprès validation de la réservation\, le paiement peut s’effectuer\nen avance par virement bancaire en précisant bien la date de répétition dans le message\nle jour même en liquide\, par chèque ou virement \nPlus d’informations sur les moyens de paiement. \nAnnulation\nLes annulations ne sont autorisées que si un remplaçant est trouvé. En ces temps de covid\, le studio 7ème ciel a instauré de nouvelles mesures\, donc le prépaiement des séances sans possibilité d’annulation.
URL:https://taikoyaki.fr/event/repetition-shigure/
LOCATION:Studio 7e Ciel – Issy Les Moulineaux\, 9 Rue d'Estienne d'Orves\, Issy-les-Moulineaux\, 92130\, France
CATEGORIES:Répétitions,Taikoyaki
ORGANIZER;CN="Taikoyaki":MAILTO:info@taikoyaki.fr
END:VEVENT
BEGIN:VEVENT
DTSTART;TZID=Europe/Paris:20200915T185000
DTEND;TZID=Europe/Paris:20200915T215000
DTSTAMP:20260426T050731
CREATED:20200821T084305Z
LAST-MODIFIED:20200821T084305Z
UID:2911-1600195800-1600206600@taikoyaki.fr
SUMMARY:Répétition Ogi\, Satsuki\, Buchi awase\, Natsu Matsuri
DESCRIPTION:Description\nRépétition de 3h avec thème\, tous niveaux\nAnimateur: Loïc \nProgramme\nEchauffement (5/10 min)\nTechnique: Exercices techniques\nMorceaux : Ogi\, Satsuki\, Buchi awase\, Natsu Matsuri\nRangement : (5 min avant la fin) \nRéservation\nLes membres de Taikoyaki doivent passer par le calendrier de réservation disponible dans leur espace membres.\nSi vous n’êtes pas membre\, merci d’utiliser le formulaire de contact. \nTarif : 7€/h soit 21€\nAprès validation de la réservation\, le paiement peut s’effectuer\nen avance par virement bancaire en précisant bien la date de répétition dans le message\nle jour même en liquide\, par chèque ou virement \nPlus d’informations sur les moyens de paiement. \nAnnulation\nLes annulations ne sont autorisées que si un remplaçant est trouvé. En ces temps de covid\, le studio 7ème ciel a instauré de nouvelles mesures\, donc le prépaiement des séances sans possibilité d’annulation.
URL:https://taikoyaki.fr/event/repetition-ogi-satsuki-buchi-awase-natsu-matsuri-3/
LOCATION:Studio 7e Ciel – Issy Les Moulineaux\, 9 Rue d'Estienne d'Orves\, Issy-les-Moulineaux\, 92130\, France
CATEGORIES:Répétitions,Taikoyaki
ORGANIZER;CN="Taikoyaki":MAILTO:info@taikoyaki.fr
END:VEVENT
END:VCALENDAR