BEGIN:VCALENDAR
VERSION:2.0
PRODID:-//Taikoyaki - ECPv6.15.20//NONSGML v1.0//EN
CALSCALE:GREGORIAN
METHOD:PUBLISH
X-WR-CALNAME:Taikoyaki
X-ORIGINAL-URL:https://taikoyaki.fr
X-WR-CALDESC:Évènements pour Taikoyaki
REFRESH-INTERVAL;VALUE=DURATION:PT1H
X-Robots-Tag:noindex
X-PUBLISHED-TTL:PT1H
BEGIN:VTIMEZONE
TZID:Europe/Paris
BEGIN:DAYLIGHT
TZOFFSETFROM:+0100
TZOFFSETTO:+0200
TZNAME:CEST
DTSTART:20190331T010000
END:DAYLIGHT
BEGIN:STANDARD
TZOFFSETFROM:+0200
TZOFFSETTO:+0100
TZNAME:CET
DTSTART:20191027T010000
END:STANDARD
BEGIN:DAYLIGHT
TZOFFSETFROM:+0100
TZOFFSETTO:+0200
TZNAME:CEST
DTSTART:20200329T010000
END:DAYLIGHT
BEGIN:STANDARD
TZOFFSETFROM:+0200
TZOFFSETTO:+0100
TZNAME:CET
DTSTART:20201025T010000
END:STANDARD
BEGIN:DAYLIGHT
TZOFFSETFROM:+0100
TZOFFSETTO:+0200
TZNAME:CEST
DTSTART:20210328T010000
END:DAYLIGHT
BEGIN:STANDARD
TZOFFSETFROM:+0200
TZOFFSETTO:+0100
TZNAME:CET
DTSTART:20211031T010000
END:STANDARD
END:VTIMEZONE
BEGIN:VEVENT
DTSTART;TZID=Europe/Paris:20200707T185000
DTEND;TZID=Europe/Paris:20200707T215000
DTSTAMP:20260426T023350
CREATED:20200626T094847Z
LAST-MODIFIED:20200726T082525Z
UID:2842-1594147800-1594158600@taikoyaki.fr
SUMMARY:Répétition "Souviens-toi l'automne dernier"
DESCRIPTION:Description\nRépétition de 3h avec thème\, tous niveaux\nAnimateur: Loïc \nProgramme\nEchauffement (5/10 min)\nTechnique: Exercices techniques\nMorceaux : Musha Daiko\, Hi Matsuri\nRangement : (5 min avant la fin) \nRéservation\nLes membres de Taikoyaki doivent passer par le calendrier de réservation disponible dans leur espace membres.\nSi vous n’êtes pas membre\, merci d’utiliser le formulaire de contact. \nTarif : 7€/h soit 21€\nAprès validation de la réservation\, le paiement peut s’effectuer\nen avance par virement bancaire en précisant bien la date de répétition dans le message\nle jour même en liquide\, par chèque ou virement \nPlus d’informations sur les moyens de paiement. \nAnnulation\nLes annulations ne sont autorisées que si un remplaçant est trouvé. En ces temps de covid\, le studio 7ème ciel a instauré de nouvelles mesures\, donc le prépaiement des séances sans possibilité d’annulation.
URL:https://taikoyaki.fr/event/repetition-souviens-toi-lautomne-dernier/
LOCATION:Studio 7e Ciel – Issy Les Moulineaux\, 9 Rue d'Estienne d'Orves\, Issy-les-Moulineaux\, 92130\, France
CATEGORIES:Répétitions,Taikoyaki
ORGANIZER;CN="Taikoyaki":MAILTO:info@taikoyaki.fr
END:VEVENT
BEGIN:VEVENT
DTSTART;TZID=Europe/Paris:20200719T102000
DTEND;TZID=Europe/Paris:20200719T132000
DTSTAMP:20260426T023350
CREATED:20200626T095058Z
LAST-MODIFIED:20200726T082506Z
UID:2844-1595154000-1595164800@taikoyaki.fr
SUMMARY:Répétition "Les classiques"
DESCRIPTION:Description\nRépétition de 3h avec thème\, tous niveaux\nAnimateur: collectif \nProgramme\nEchauffement (5/10 min)\nTechnique: Exercices techniques\nMorceaux : Ogi Matsuri\, Satsuki Bayashi\, Ran\, Tonbane\, Buchi Awase\, Ei Ja Nai Ka\nRangement : (5 min avant la fin) \nRéservation\nLes membres de Taikoyaki doivent passer par le calendrier de réservation disponible dans leur espace membres.\nSi vous n’êtes pas membre\, merci d’utiliser le formulaire de contact. \nTarif : 7€/h soit 21€\nAprès validation de la réservation\, le paiement peut s’effectuer\nen avance par virement bancaire en précisant bien la date de répétition dans le message\nle jour même en liquide\, par chèque ou virement \nPlus d’informations sur les moyens de paiement. \nAnnulation\nLes annulations ne sont autorisées que si un remplaçant est trouvé. En ces temps de covid\, le studio 7ème ciel a instauré de nouvelles mesures\, donc le prépaiement des séances sans possibilité d’annulation.
URL:https://taikoyaki.fr/event/repetition-les-classiques/
LOCATION:Studio 7e Ciel – Issy Les Moulineaux\, 9 Rue d'Estienne d'Orves\, Issy-les-Moulineaux\, 92130\, France
CATEGORIES:Répétitions,Taikoyaki
ORGANIZER;CN="Taikoyaki":MAILTO:info@taikoyaki.fr
END:VEVENT
BEGIN:VEVENT
DTSTART;TZID=Europe/Paris:20200721T192000
DTEND;TZID=Europe/Paris:20200721T222000
DTSTAMP:20260426T023350
CREATED:20200626T095245Z
LAST-MODIFIED:20200726T082420Z
UID:2846-1595359200-1595370000@taikoyaki.fr
SUMMARY:Répétition "Made in Tokara"
DESCRIPTION:Description\nRépétition de 3h avec thème\, tous niveaux\nAnimateur: Loïc \nProgramme\nEchauffement (5/10 min)\nTechnique: Exercices techniques\nMorceaux : Natsu Nokori\, Shigure\nRangement : (5 min avant la fin) \nRéservation\nLes membres de Taikoyaki doivent passer par le calendrier de réservation disponible dans leur espace membres.\nSi vous n’êtes pas membre\, merci d’utiliser le formulaire de contact. \nTarif : 7€/h soit 21€\nAprès validation de la réservation\, le paiement peut s’effectuer\nen avance par virement bancaire en précisant bien la date de répétition dans le message\nle jour même en liquide\, par chèque ou virement \nPlus d’informations sur les moyens de paiement. \nAnnulation\nLes annulations ne sont autorisées que si un remplaçant est trouvé. En ces temps de covid\, le studio 7ème ciel a instauré de nouvelles mesures\, donc le prépaiement des séances sans possibilité d’annulation.
URL:https://taikoyaki.fr/event/repetition-made-in-tokara/
LOCATION:Studio 7e Ciel – Issy Les Moulineaux\, 9 Rue d'Estienne d'Orves\, Issy-les-Moulineaux\, 92130\, France
CATEGORIES:Répétitions,Taikoyaki
ORGANIZER;CN="Taikoyaki":MAILTO:info@taikoyaki.fr
END:VEVENT
BEGIN:VEVENT
DTSTART;TZID=Europe/Paris:20200728T192000
DTEND;TZID=Europe/Paris:20200728T222000
DTSTAMP:20260426T023350
CREATED:20200626T095436Z
LAST-MODIFIED:20200726T082443Z
UID:2848-1595964000-1595974800@taikoyaki.fr
SUMMARY:Répétition "Même pas cap!"
DESCRIPTION:Description\nRépétition de 3h avec thème\, tous niveaux\nAnimateur: Rosa\, Kenny\, Agnès\, Loïc \nProgramme\nEchauffement (5/10 min)\nTechnique: Exercices techniques\nMorceaux : Rainy Day\, Worldwide Matsuri\nRangement : (5 min avant la fin) \nRéservation\nLes membres de Taikoyaki doivent passer par le calendrier de réservation disponible dans leur espace membres.\nSi vous n’êtes pas membre\, merci d’utiliser le formulaire de contact. \nTarif : 7€/h soit 21€\nAprès validation de la réservation\, le paiement peut s’effectuer\nen avance par virement bancaire en précisant bien la date de répétition dans le message\nle jour même en liquide\, par chèque ou virement \nPlus d’informations sur les moyens de paiement. \nAnnulation\nLes annulations ne sont autorisées que si un remplaçant est trouvé. En ces temps de covid\, le studio 7ème ciel a instauré de nouvelles mesures\, donc le prépaiement des séances sans possibilité d’annulation.
URL:https://taikoyaki.fr/event/repetition-meme-pas-cap/
LOCATION:Studio 7e Ciel – Issy Les Moulineaux\, 9 Rue d'Estienne d'Orves\, Issy-les-Moulineaux\, 92130\, France
CATEGORIES:Répétitions,Taikoyaki
ORGANIZER;CN="Taikoyaki":MAILTO:info@taikoyaki.fr
END:VEVENT
END:VCALENDAR